BEGIN:VCALENDAR
VERSION:2.0
PRODID:-//217.160.0.137//NONSGML kigkonsult.se iCalcreator 2.20//
CALSCALE:GREGORIAN
METHOD:PUBLISH
X-WR-TIMEZONE:UTC
BEGIN:VEVENT
UID:event37@Gaststätte Gier
DTSTAMP:20260421T082648Z
CATEGORIES:Kartenvorverkauf
DESCRIPTION:Regina Red\nCategory: Kartenvorverkauf\nLink: https://gaststaet
 te-gier.de/index.php?option=com_jem&view=event&id=37:regina-red\n
DTSTART:20260411T190000Z
DTEND:20260411T190000Z
SUMMARY:Regina Red
URL:https://gaststaette-gier.de/index.php?option=com_jem&view=event&id=37:r
 egina-red
END:VEVENT
BEGIN:VEVENT
UID:event36@Gaststätte Gier
DTSTAMP:20260421T082648Z
CATEGORIES:Startgeld 5€
DESCRIPTION:Oster Bingo\nCategory: Startgeld 5€\nLink: https://gaststaette-
 gier.de/index.php?option=com_jem&view=event&id=36:oster-bingo\n
DTSTART:20260402T200000Z
DTEND:20260402T200000Z
SUMMARY:Oster Bingo
URL:https://gaststaette-gier.de/index.php?option=com_jem&view=event&id=36:o
 ster-bingo
END:VEVENT
BEGIN:VEVENT
UID:event34@Gaststätte Gier
DTSTAMP:20260421T082648Z
CATEGORIES:Startgeld 12€
DESCRIPTION:Schockerturnier\nCategory: Startgeld 12€\nLink: https://gaststa
 ette-gier.de/index.php?option=com_jem&view=event&id=34:schockerturnier\n
DTSTART:20260328T160000Z
DTEND:20260328T160000Z
SUMMARY:Schockerturnier
URL:https://gaststaette-gier.de/index.php?option=com_jem&view=event&id=34:s
 chockerturnier
END:VEVENT
BEGIN:VEVENT
UID:event32@Gaststätte Gier
DTSTAMP:20260421T082648Z
CATEGORIES:Eintritt Frei
DESCRIPTION:Bye Bye Party\nCategory: Eintritt Frei\nLink: https://gaststaet
 te-gier.de/index.php?option=com_jem&view=event&id=32:after-zoch-party\n
DTSTART:20260217T170000Z
DTEND:20260217T170000Z
SUMMARY:Bye Bye Party
URL:https://gaststaette-gier.de/index.php?option=com_jem&view=event&id=32:a
 fter-zoch-party
END:VEVENT
BEGIN:VEVENT
UID:event33@Gaststätte Gier
DTSTAMP:20260421T082648Z
CATEGORIES:Eintritt 8€
DESCRIPTION:After Zoch Party\nCategory: Eintritt 8€\nLink: https://gaststae
 tte-gier.de/index.php?option=com_jem&view=event&id=33:after-zoch-party\n
DTSTART:20260215T120000Z
DTEND:20260215T120000Z
SUMMARY:After Zoch Party
URL:https://gaststaette-gier.de/index.php?option=com_jem&view=event&id=33:a
 fter-zoch-party
END:VEVENT
BEGIN:VEVENT
UID:event31@Gaststätte Gier
DTSTAMP:20260421T082648Z
CATEGORIES:Eintritt Frei
DESCRIPTION:Standquartierseröffnung\nCategory: Eintritt Frei\nLink: https:/
 /gaststaette-gier.de/index.php?option=com_jem&view=event&id=31:standquarti
 erseroeffnung\n
DTSTART:20260124T190000Z
DTEND:20260124T190000Z
SUMMARY:Standquartierseröffnung
URL:https://gaststaette-gier.de/index.php?option=com_jem&view=event&id=31:s
 tandquartierseroeffnung
END:VEVENT
BEGIN:VEVENT
UID:event26@Gaststätte Gier
DTSTAMP:20260421T082648Z
CATEGORIES:Eintritt Frei
DESCRIPTION:Silvesterparty\nCategory: Eintritt Frei\nLink: https://gaststae
 tte-gier.de/index.php?option=com_jem&view=event&id=26:silvesterparty\n
DTSTART:20251231T180000Z
DTEND:20251231T180000Z
SUMMARY:Silvesterparty
URL:https://gaststaette-gier.de/index.php?option=com_jem&view=event&id=26:s
 ilvesterparty
END:VEVENT
BEGIN:VEVENT
UID:event28@Gaststätte Gier
DTSTAMP:20260421T082648Z
CATEGORIES:Startgeld 10\,00 Euro
DESCRIPTION:Bingo-Weihnachts-Warm-Up\nCategory: Startgeld 10\,00 Euro\nLink
 : https://gaststaette-gier.de/index.php?option=com_jem&view=event&id=28:bi
 ngo-weihnachts-warm-up\n
DTSTART:20251223T190000Z
DTEND:20251223T190000Z
SUMMARY:Bingo-Weihnachts-Warm-Up
URL:https://gaststaette-gier.de/index.php?option=com_jem&view=event&id=28:b
 ingo-weihnachts-warm-up
END:VEVENT
BEGIN:VEVENT
UID:event30@Gaststätte Gier
DTSTAMP:20260421T082648Z
CATEGORIES:Startgeld 12€
DESCRIPTION:Nikolaus Schockerturnier\nCategory: Startgeld 12€\nLink: https:
 //gaststaette-gier.de/index.php?option=com_jem&view=event&id=30:nikolaus-s
 chockerturnier\n
DTSTART:20251206T170000Z
DTEND:20251206T170000Z
SUMMARY:Nikolaus Schockerturnier
URL:https://gaststaette-gier.de/index.php?option=com_jem&view=event&id=30:n
 ikolaus-schockerturnier
END:VEVENT
BEGIN:VEVENT
UID:event25@Gaststätte Gier
DTSTAMP:20260421T082648Z
CATEGORIES:Eintritt Frei
DESCRIPTION:Weihnachtsmarkt\nCategory: Eintritt Frei\nLink: https://gaststa
 ette-gier.de/index.php?option=com_jem&view=event&id=25:weihnachtsmarkt\n
DTSTART:20251130T110000Z
DTEND:20251130T110000Z
SUMMARY:Weihnachtsmarkt
URL:https://gaststaette-gier.de/index.php?option=com_jem&view=event&id=25:w
 eihnachtsmarkt
END:VEVENT
BEGIN:VEVENT
UID:event24@Gaststätte Gier
DTSTAMP:20260421T082648Z
CATEGORIES:Kartenvorverkauf
DESCRIPTION:Überfall der Eifel-Gäng\nCategory: Kartenvorverkauf\nLink: http
 s://gaststaette-gier.de/index.php?option=com_jem&view=event&id=24:ueberfal
 l-der-eifel-gaeng\n
DTSTART:20251107T200000Z
DTEND:20251107T200000Z
SUMMARY:Überfall der Eifel-Gäng
URL:https://gaststaette-gier.de/index.php?option=com_jem&view=event&id=24:u
 eberfall-der-eifel-gaeng
END:VEVENT
BEGIN:VEVENT
UID:event27@Gaststätte Gier
DTSTAMP:20260421T082648Z
CATEGORIES:Eintritt Frei
DESCRIPTION:Beerpong ft. Gier-König Closing\nCategory: Eintritt Frei\nLink:
  https://gaststaette-gier.de/index.php?option=com_jem&view=event&id=27:bee
 rpong-ft-gier-koenig-closing\n
DTSTART:20251025T170000Z
DTEND:20251025T170000Z
SUMMARY:Beerpong ft. Gier-König Closing
URL:https://gaststaette-gier.de/index.php?option=com_jem&view=event&id=27:b
 eerpong-ft-gier-koenig-closing
END:VEVENT
BEGIN:VEVENT
UID:event23@Gaststätte Gier
DTSTAMP:20260421T082648Z
CATEGORIES:Eintritt Frei
DESCRIPTION:Jahreshauptversammlung\nCategory: Eintritt Frei\nLink: https://
 gaststaette-gier.de/index.php?option=com_jem&view=event&id=23:jahreshauptv
 ersammlung\n
DTSTART:20251023T190000Z
DTEND:20251023T190000Z
SUMMARY:Jahreshauptversammlung
URL:https://gaststaette-gier.de/index.php?option=com_jem&view=event&id=23:j
 ahreshauptversammlung
END:VEVENT
BEGIN:VEVENT
UID:event22@Gaststätte Gier
DTSTAMP:20260421T082648Z
CATEGORIES:Eintritt 8€
DESCRIPTION:'Nöss knacke mött Köppche' - Veranstaltung der Gemeinde\nCatego
 ry: Eintritt 8€\nLink: https://gaststaette-gier.de/index.php?option=com_je
 m&view=event&id=22:mir-kalle-platt-gemeinde\n
DTSTART:20251016T190000Z
DTEND:20251016T190000Z
SUMMARY:'Nöss knacke mött Köppche' - Veranstaltung der Gemeinde
URL:https://gaststaette-gier.de/index.php?option=com_jem&view=event&id=22:m
 ir-kalle-platt-gemeinde
END:VEVENT
BEGIN:VEVENT
UID:event21@Gaststätte Gier
DTSTAMP:20260421T082648Z
CATEGORIES:Eintritt Frei
DESCRIPTION:Oktoberfest\nCategory: Eintritt Frei\nLink: https://gaststaette
 -gier.de/index.php?option=com_jem&view=event&id=21:oktoberfest\n
DTSTART:20251011T180000Z
DTEND:20251011T180000Z
SUMMARY:Oktoberfest
URL:https://gaststaette-gier.de/index.php?option=com_jem&view=event&id=21:o
 ktoberfest
END:VEVENT
BEGIN:VEVENT
UID:event19@Gaststätte Gier
DTSTAMP:20260421T082648Z
CATEGORIES:Eintritt Frei / Hutsammlung
DESCRIPTION:Bandabend 'Kerk & Baend'\nCategory: Eintritt Frei / Hutsammlung
 \nLink: https://gaststaette-gier.de/index.php?option=com_jem&view=event&id
 =19:bandabend-kirk-baend\n
DTSTART:20250913T193000Z
DTEND:20250913T193000Z
SUMMARY:Bandabend 'Kerk & Baend'
URL:https://gaststaette-gier.de/index.php?option=com_jem&view=event&id=19:b
 andabend-kirk-baend
END:VEVENT
BEGIN:VEVENT
UID:event29@Gaststätte Gier
DTSTAMP:20260421T082648Z
CATEGORIES:Eintritt Frei
DESCRIPTION:Kirmes Warm Up\nCategory: Eintritt Frei\nLink: https://gaststae
 tte-gier.de/index.php?option=com_jem&view=event&id=29:kirmes-warm-up\n
DTSTART:20250828T200000Z
DTEND:20250828T200000Z
SUMMARY:Kirmes Warm Up
URL:https://gaststaette-gier.de/index.php?option=com_jem&view=event&id=29:k
 irmes-warm-up
END:VEVENT
BEGIN:VEVENT
UID:event20@Gaststätte Gier
DTSTAMP:20260421T082648Z
CATEGORIES:Eintritt Frei / Hutsammlung
DESCRIPTION:Soloprogramm mit Georg Kaiser\nCategory: Eintritt Frei / Hutsam
 mlung\nLink: https://gaststaette-gier.de/index.php?option=com_jem&view=eve
 nt&id=20:soloprogramm-georg-kaiser\n
DTSTART:20250711T200000Z
DTEND:20250711T200000Z
SUMMARY:Soloprogramm mit Georg Kaiser
URL:https://gaststaette-gier.de/index.php?option=com_jem&view=event&id=20:s
 oloprogramm-georg-kaiser
END:VEVENT
BEGIN:VEVENT
UID:event18@Gaststätte Gier
DTSTAMP:20260421T082648Z
CATEGORIES:Eintritt Frei / Hutsammlung
DESCRIPTION:Bandabend 'Especially Sunrise'\nCategory: Eintritt Frei / Hutsa
 mmlung\nLink: https://gaststaette-gier.de/index.php?option=com_jem&view=ev
 ent&id=18:bandabend-especially-sunrise\n
DTSTART:20250613T200000Z
DTEND:20250613T200000Z
SUMMARY:Bandabend 'Especially Sunrise'
URL:https://gaststaette-gier.de/index.php?option=com_jem&view=event&id=18:b
 andabend-especially-sunrise
END:VEVENT
BEGIN:VEVENT
UID:event17@Gaststätte Gier
DTSTAMP:20260421T082648Z
CATEGORIES:Eintritt Frei / Hutsammlung
DESCRIPTION:Bandabend mit „Die Old Timer“\nCategory: Eintritt Frei / Hutsam
 mlung\nLink: https://gaststaette-gier.de/index.php?option=com_jem&view=eve
 nt&id=17:bandabend-mit-die-old-timer\n
DTSTART:20250524T200000Z
DTEND:20250524T200000Z
SUMMARY:Bandabend mit „Die Old Timer“
URL:https://gaststaette-gier.de/index.php?option=com_jem&view=event&id=17:b
 andabend-mit-die-old-timer
END:VEVENT
BEGIN:VEVENT
UID:event16@Gaststätte Gier
DTSTAMP:20260421T082648Z
CATEGORIES:Eintritt Frei / Hutsammlung
DESCRIPTION:Mallorca-Fete (mit Party-Musik)\nCategory: Eintritt Frei / Huts
 ammlung\nLink: https://gaststaette-gier.de/index.php?option=com_jem&view=e
 vent&id=16:mallorca-fete-mit-party-musik\n
DTSTART:20250510T200000Z
DTEND:20250510T200000Z
SUMMARY:Mallorca-Fete (mit Party-Musik)
URL:https://gaststaette-gier.de/index.php?option=com_jem&view=event&id=16:m
 allorca-fete-mit-party-musik
END:VEVENT
BEGIN:VEVENT
UID:event7@Gaststätte Gier
DTSTAMP:20260421T082648Z
CATEGORIES:Eintritt Frei
DESCRIPTION:Maiball des Maigeloogs\nCategory: Eintritt Frei\nLink: https://
 gaststaette-gier.de/index.php?option=com_jem&view=event&id=7:maiball-des-m
 aigeloogs\n
DTSTART;VALUE=DATE:20250501
DTEND;VALUE=DATE:20250502
SUMMARY:Maiball des Maigeloogs
URL:https://gaststaette-gier.de/index.php?option=com_jem&view=event&id=7:ma
 iball-des-maigeloogs
END:VEVENT
BEGIN:VEVENT
UID:event15@Gaststätte Gier
DTSTAMP:20260421T082648Z
CATEGORIES:Eintritt Frei / Hutsammlung
DESCRIPTION:Konzert mit dem Duo 'Back to the roots'\nCategory: Eintritt Fre
 i / Hutsammlung\nLink: https://gaststaette-gier.de/index.php?option=com_je
 m&view=event&id=15:duo-back-to-the-roots\n
DTSTART:20250425T200000Z
DTEND:20250425T200000Z
SUMMARY:Konzert mit dem Duo 'Back to the roots'
URL:https://gaststaette-gier.de/index.php?option=com_jem&view=event&id=15:d
 uo-back-to-the-roots
END:VEVENT
BEGIN:VEVENT
UID:event14@Gaststätte Gier
DTSTAMP:20260421T082648Z
CATEGORIES:Eintritt Frei
DESCRIPTION:Darts-Turnier Endrunde\nCategory: Eintritt Frei\nLink: https://
 gaststaette-gier.de/index.php?option=com_jem&view=event&id=14:darts-turnie
 r-endrunde\n
DTSTART;VALUE=DATE:20250412
DTEND;VALUE=DATE:20250413
SUMMARY:Darts-Turnier Endrunde
URL:https://gaststaette-gier.de/index.php?option=com_jem&view=event&id=14:d
 arts-turnier-endrunde
END:VEVENT
BEGIN:VEVENT
UID:event13@Gaststätte Gier
DTSTAMP:20260421T082648Z
CATEGORIES:Eintritt Frei
DESCRIPTION:Darts-Turnier Vorrunde\nCategory: Eintritt Frei\nLink: https://
 gaststaette-gier.de/index.php?option=com_jem&view=event&id=13:darts-turnie
 r-vorrunde\n
DTSTART;VALUE=DATE:20250405
DTEND;VALUE=DATE:20250406
SUMMARY:Darts-Turnier Vorrunde
URL:https://gaststaette-gier.de/index.php?option=com_jem&view=event&id=13:d
 arts-turnier-vorrunde
END:VEVENT
BEGIN:VEVENT
UID:event12@Gaststätte Gier
DTSTAMP:20260421T082648Z
CATEGORIES:Eintritt Frei / Hutsammlung
DESCRIPTION:„Frühlings-Jazz mit Copper Towns“\nCategory: Eintritt Frei / Hu
 tsammlung\nLink: https://gaststaette-gier.de/index.php?option=com_jem&view
 =event&id=12:fruehlings-jazz-mit-copper-towns\n
DTSTART:20250321T200000Z
DTEND:20250321T200000Z
SUMMARY:„Frühlings-Jazz mit Copper Towns“
URL:https://gaststaette-gier.de/index.php?option=com_jem&view=event&id=12:f
 ruehlings-jazz-mit-copper-towns
END:VEVENT
BEGIN:VEVENT
UID:event11@Gaststätte Gier
DTSTAMP:20260421T082648Z
CATEGORIES:Eintritt Frei
DESCRIPTION:Traditionelles Fischessen mit anschließender Bye\, Bye Party\nC
 ategory: Eintritt Frei\nLink: https://gaststaette-gier.de/index.php?option
 =com_jem&view=event&id=11:traditionelles-fischessen\n
DTSTART:20250304T170000Z
DTEND:20250304T170000Z
SUMMARY:Traditionelles Fischessen mit anschließender Bye\, Bye Party
URL:https://gaststaette-gier.de/index.php?option=com_jem&view=event&id=11:t
 raditionelles-fischessen
END:VEVENT
BEGIN:VEVENT
UID:event10@Gaststätte Gier
DTSTAMP:20260421T082648Z
CATEGORIES:Eintritt 8€
DESCRIPTION:After-Zoch-Party\nCategory: Eintritt 8€\nLink: https://gaststae
 tte-gier.de/index.php?option=com_jem&view=event&id=10:after-zoch-party\n
DTSTART:20250302T120000Z
DTEND:20250302T120000Z
SUMMARY:After-Zoch-Party
URL:https://gaststaette-gier.de/index.php?option=com_jem&view=event&id=10:a
 fter-zoch-party
END:VEVENT
BEGIN:VEVENT
UID:event9@Gaststätte Gier
DTSTAMP:20260421T082648Z
CATEGORIES:Eintritt 8€
DESCRIPTION:Weiberfastnacht\nCategory: Eintritt 8€\nLink: https://gaststaet
 te-gier.de/index.php?option=com_jem&view=event&id=9:weiberfastnacht-fete\n
DTSTART:20250227T100000Z
DTEND:20250227T100000Z
SUMMARY:Weiberfastnacht
URL:https://gaststaette-gier.de/index.php?option=com_jem&view=event&id=9:we
 iberfastnacht-fete
END:VEVENT
BEGIN:VEVENT
UID:event8@Gaststätte Gier
DTSTAMP:20260421T082648Z
CATEGORIES:Startgeld 10\,00 Euro
DESCRIPTION:11. Schockermeisterschaft „Luisjen Cups“\nCategory: Startgeld 1
 0\,00 Euro\nLink: https://gaststaette-gier.de/index.php?option=com_jem&vie
 w=event&id=8:11-schockermeisterschaft-luisjen-cups\n
DTSTART:20250215T180000Z
DTEND:20250215T180000Z
SUMMARY:11. Schockermeisterschaft „Luisjen Cups“
URL:https://gaststaette-gier.de/index.php?option=com_jem&view=event&id=8:11
 -schockermeisterschaft-luisjen-cups
END:VEVENT
BEGIN:VEVENT
UID:event5@Gaststätte Gier
DTSTAMP:20260421T082648Z
CATEGORIES:Eintritt Frei
DESCRIPTION:Standquertiereröffnung der Löstige Bröder\nCategory: Eintritt F
 rei\nLink: https://gaststaette-gier.de/index.php?option=com_jem&view=event
 &id=5:standquertiereroeffnung-der-loestige-broeder\n
DTSTART:20250125T190000Z
DTEND:20250125T190000Z
SUMMARY:Standquertiereröffnung der Löstige Bröder
URL:https://gaststaette-gier.de/index.php?option=com_jem&view=event&id=5:st
 andquertiereroeffnung-der-loestige-broeder
END:VEVENT
BEGIN:VEVENT
UID:event3@Gaststätte Gier
DTSTAMP:20260421T082648Z
CATEGORIES:Eintritt Frei
DESCRIPTION:Traditioneller Weihnachtsmarkt\nCategory: Eintritt Frei\nLink: 
 https://gaststaette-gier.de/index.php?option=com_jem&view=event&id=3:tradi
 tioneller-weihnachtsmarkt\n
DTSTART:20241201T110000Z
DTEND:20241201T110000Z
SUMMARY:Traditioneller Weihnachtsmarkt
URL:https://gaststaette-gier.de/index.php?option=com_jem&view=event&id=3:tr
 aditioneller-weihnachtsmarkt
END:VEVENT
BEGIN:VEVENT
UID:event4@Gaststätte Gier
DTSTAMP:20260421T082648Z
CATEGORIES:Startgeld 10\,00 Euro
DESCRIPTION:Team Eifelcup of Darts\nCategory: Startgeld 10\,00 Euro\nLink: 
 https://gaststaette-gier.de/index.php?option=com_jem&view=event&id=4:team-
 eifelcup-of-darts\n
DTSTART:20241116T100000Z
DTEND:20241116T100000Z
SUMMARY:Team Eifelcup of Darts
URL:https://gaststaette-gier.de/index.php?option=com_jem&view=event&id=4:te
 am-eifelcup-of-darts
END:VEVENT
BEGIN:VEVENT
UID:event2@Gaststätte Gier
DTSTAMP:20260421T082648Z
CATEGORIES:Startgeld 10\,00 Euro
DESCRIPTION:Karnevals Party\nCategory: Startgeld 10\,00 Euro\nLink: https:/
 /gaststaette-gier.de/index.php?option=com_jem&view=event&id=2:karnevals-pa
 rty\n
DTSTART:20241111T190000Z
DTEND:20241111T190000Z
SUMMARY:Karnevals Party
URL:https://gaststaette-gier.de/index.php?option=com_jem&view=event&id=2:ka
 rnevals-party
END:VEVENT
END:VCALENDAR